BEGIN:VCALENDAR
VERSION:2.0
PRODID:-//Pacifico Sur - ECPv6.15.20//NONSGML v1.0//EN
CALSCALE:GREGORIAN
METHOD:PUBLISH
X-WR-CALNAME:Pacifico Sur
X-ORIGINAL-URL:https://pacificosur.ciesas.edu.mx
X-WR-CALDESC:Eventos para Pacifico Sur
REFRESH-INTERVAL;VALUE=DURATION:PT1H
X-Robots-Tag:noindex
X-PUBLISHED-TTL:PT1H
BEGIN:VTIMEZONE
TZID:America/Chicago
BEGIN:DAYLIGHT
TZOFFSETFROM:-0600
TZOFFSETTO:-0500
TZNAME:CDT
DTSTART:20230312T080000
END:DAYLIGHT
BEGIN:STANDARD
TZOFFSETFROM:-0500
TZOFFSETTO:-0600
TZNAME:CST
DTSTART:20231105T070000
END:STANDARD
BEGIN:DAYLIGHT
TZOFFSETFROM:-0600
TZOFFSETTO:-0500
TZNAME:CDT
DTSTART:20240310T080000
END:DAYLIGHT
BEGIN:STANDARD
TZOFFSETFROM:-0500
TZOFFSETTO:-0600
TZNAME:CST
DTSTART:20241103T070000
END:STANDARD
BEGIN:DAYLIGHT
TZOFFSETFROM:-0600
TZOFFSETTO:-0500
TZNAME:CDT
DTSTART:20250309T080000
END:DAYLIGHT
BEGIN:STANDARD
TZOFFSETFROM:-0500
TZOFFSETTO:-0600
TZNAME:CST
DTSTART:20251102T070000
END:STANDARD
END:VTIMEZONE
BEGIN:VEVENT
DTSTART;TZID=America/Chicago:20240508T103000
DTEND;TZID=America/Chicago:20240508T130000
DTSTAMP:20260422T013102
CREATED:20240506T161930Z
LAST-MODIFIED:20240506T162146Z
UID:19744-1715164200-1715173200@pacificosur.ciesas.edu.mx
SUMMARY:Seminario de Género\, sesión 3
DESCRIPTION:Seminario de Género \nTestimonio y reflexión sobre elecciones y propuestas de las candidatas\, a partir del libro No me cerrarán los labios: Una novela sobre Hermila Galindo\, feminista y revolucionaria\, de Abia Castillo\nPonente: Ángeles Anaya\n8 de mayo\nSala 1\nCIESAS Pacífico Sur \nTransmisión en vivo: https://www.youtube.com/@ciesaspacificosur\n\n\n\n 
URL:https://pacificosur.ciesas.edu.mx/event/seminario-de-genero-sesion-3-2/
LOCATION:CIESAS Pacifico Sur\, Prol. Mirador s/n\, Oaxaca\, Oaxaca\, México
ATTACH;FMTTYPE=image/png:https://pacificosur.ciesas.edu.mx/wp-content/uploads/2024/05/Cartel-Seminario-de-Genero_3.png
END:VEVENT
BEGIN:VEVENT
DTSTART;TZID=America/Chicago:20240515T100000
DTEND;TZID=America/Chicago:20240515T130000
DTSTAMP:20260422T013102
CREATED:20240506T162932Z
LAST-MODIFIED:20240506T162932Z
UID:19753-1715767200-1715778000@pacificosur.ciesas.edu.mx
SUMMARY:Seminario Territorios indígenas\, autonomías y cuidado de la vida\, sesión 2
DESCRIPTION:Seminario Permanente PLURAL-CIESAS Pacífico Sur “Territorios indígenas\, autonomías y cuidado de la vida” \nSesión 2. Género\, derechos agrarios y territorios \nParticipan: \nMauricio Arellano Nucamendi (Conahcyt-ClESAS Pacífico Sur) \nPonentes: \nGabriela Torres (ClESAS Peninsular) \nEdith Cruz Zárate (Tequio Jurídico) \nSitlali Chino Carrillo (Activista wixarika) \nGisela Espinosa (UAM Xochimilco) \n15 de mayo\, 10:00 horas. \nActividad virtual \n\n\n\nTransmisión en vivo por YouTube \nhttps://www.youtube.com/@ciesaspacificosur\n\n\n\n\n\n\n\n 
URL:https://pacificosur.ciesas.edu.mx/event/seminario-territorios-indigenas-autonomias-y-cuidado-de-la-vida-sesion-2/
LOCATION:CIESAS Pacifico Sur\, Prol. Mirador s/n\, Oaxaca\, Oaxaca\, México
ATTACH;FMTTYPE=image/png:https://pacificosur.ciesas.edu.mx/wp-content/uploads/2024/05/Cartel-seminario-Plural_2.png
END:VEVENT
BEGIN:VEVENT
DTSTART;TZID=America/Chicago:20240520T163000
DTEND;TZID=America/Chicago:20240522T183000
DTSTAMP:20260422T013102
CREATED:20240506T162405Z
LAST-MODIFIED:20240506T162517Z
UID:19747-1716222600-1716402600@pacificosur.ciesas.edu.mx
SUMMARY:Curso “Breve Historia del Presente 1850-2023”
DESCRIPTION:Seminario Interinstitucional de Estudios Históricos de Oaxaca \nCurso “Breve Historia del Presente 1850-2023”. \nImparte: Diego Olstein (Universidad de Pittsburgh) \n20-22 de mayo. \nSala de Seminarios del Archivo General del Estado de Oaxaca \nPrevia inscripción\, cupo limitado\n\n\n\n 
URL:https://pacificosur.ciesas.edu.mx/event/curso-breve-historia-del-presente-1850-2023/
LOCATION:Archivo General del Estado de Oaxaca\, Los pinos esquina Av. Canteras\, Santa María Ixcotel\, Santa Lucía del Camino\, Oaxaca\, Oaxaca\, México
ATTACH;FMTTYPE=image/png:https://pacificosur.ciesas.edu.mx/wp-content/uploads/2024/05/Curso_Olstein-copia.png
END:VEVENT
BEGIN:VEVENT
DTSTART;TZID=America/Chicago:20240527T160000
DTEND;TZID=America/Chicago:20240527T180000
DTSTAMP:20260422T013102
CREATED:20240506T162705Z
LAST-MODIFIED:20240506T162705Z
UID:19751-1716825600-1716832800@pacificosur.ciesas.edu.mx
SUMMARY:Seminario Interinstitucional de Estudios Históricos de Oaxaca\, sesión final
DESCRIPTION:Seminario Interinstitucional de Estudios Históricos de Oaxaca \nPresentación y discusión de textos. Fin de ciclo \n  \nSelene García Jiménez (IIE-UNAM Oaxaca) \n“Los desafios de financiar la educación pública en Oaxaca: la contribución de 6 ¼ centavos\, 1867-1874”. \nÉdgar Mendoza García (CIESAS CDMX). \n“De pueblos sujetos a Agencias municipales en la Mixteca Alta\, siglos XVIII-XIX”. \n  \n27 de mayo\, 16:00 horas.\n\n\n\nUnidad de Extensión Universitaria UNAM-Oaxaca
URL:https://pacificosur.ciesas.edu.mx/event/seminario-interinstitucional-de-estudios-historicos-de-oaxaca-sesion-final/
LOCATION:Unidad de Extensión Universitaria UNAM-Oaxaca\, Independencia 1002\, Centro\, Oaxaca de Juárez\, Oaxaca\, 68000\, México
END:VEVENT
END:VCALENDAR