BEGIN:VCALENDAR
VERSION:2.0
PRODID:-//Pacifico Sur - ECPv6.15.20//NONSGML v1.0//EN
CALSCALE:GREGORIAN
METHOD:PUBLISH
X-WR-CALNAME:Pacifico Sur
X-ORIGINAL-URL:https://pacificosur.ciesas.edu.mx
X-WR-CALDESC:Eventos para Pacifico Sur
REFRESH-INTERVAL;VALUE=DURATION:PT1H
X-Robots-Tag:noindex
X-PUBLISHED-TTL:PT1H
BEGIN:VTIMEZONE
TZID:America/Chicago
BEGIN:DAYLIGHT
TZOFFSETFROM:-0600
TZOFFSETTO:-0500
TZNAME:CDT
DTSTART:20230312T080000
END:DAYLIGHT
BEGIN:STANDARD
TZOFFSETFROM:-0500
TZOFFSETTO:-0600
TZNAME:CST
DTSTART:20231105T070000
END:STANDARD
BEGIN:DAYLIGHT
TZOFFSETFROM:-0600
TZOFFSETTO:-0500
TZNAME:CDT
DTSTART:20240310T080000
END:DAYLIGHT
BEGIN:STANDARD
TZOFFSETFROM:-0500
TZOFFSETTO:-0600
TZNAME:CST
DTSTART:20241103T070000
END:STANDARD
BEGIN:DAYLIGHT
TZOFFSETFROM:-0600
TZOFFSETTO:-0500
TZNAME:CDT
DTSTART:20250309T080000
END:DAYLIGHT
BEGIN:STANDARD
TZOFFSETFROM:-0500
TZOFFSETTO:-0600
TZNAME:CST
DTSTART:20251102T070000
END:STANDARD
END:VTIMEZONE
BEGIN:VEVENT
DTSTART;TZID=America/Chicago:20240828T103000
DTEND;TZID=America/Chicago:20240828T133000
DTSTAMP:20260421T210142
CREATED:20240819T202855Z
LAST-MODIFIED:20240819T202855Z
UID:19852-1724841000-1724851800@pacificosur.ciesas.edu.mx
SUMMARY:Seminario de Género\, sesión 6
DESCRIPTION:Seminario de Género \nSesión 6. \nNombrando lo innombrable. El trabajo doméstico de las mujeres. \nPonente: Magdalena López Rocha y Claudia Guichard \n  \n28 de agosto\, 10:30 horas. \nSala 1\n\n\n\nCIESAS Pacífico Sur \n  \n\n\n\nTransmisión en vivo por YouTube \nhttps://www.youtube.com/@ciesaspacificosur \n 
URL:https://pacificosur.ciesas.edu.mx/event/seminario-de-genero-sesion-6-2/
LOCATION:CIESAS Pacifico Sur\, Prol. Mirador s/n\, Oaxaca\, Oaxaca\, México
END:VEVENT
END:VCALENDAR