BEGIN:VCALENDAR
VERSION:2.0
PRODID:-//Pacifico Sur - ECPv6.15.20//NONSGML v1.0//EN
CALSCALE:GREGORIAN
METHOD:PUBLISH
X-WR-CALNAME:Pacifico Sur
X-ORIGINAL-URL:https://pacificosur.ciesas.edu.mx
X-WR-CALDESC:Eventos para Pacifico Sur
REFRESH-INTERVAL;VALUE=DURATION:PT1H
X-Robots-Tag:noindex
X-PUBLISHED-TTL:PT1H
BEGIN:VTIMEZONE
TZID:America/Chicago
BEGIN:DAYLIGHT
TZOFFSETFROM:-0600
TZOFFSETTO:-0500
TZNAME:CDT
DTSTART:20230312T080000
END:DAYLIGHT
BEGIN:STANDARD
TZOFFSETFROM:-0500
TZOFFSETTO:-0600
TZNAME:CST
DTSTART:20231105T070000
END:STANDARD
BEGIN:DAYLIGHT
TZOFFSETFROM:-0600
TZOFFSETTO:-0500
TZNAME:CDT
DTSTART:20240310T080000
END:DAYLIGHT
BEGIN:STANDARD
TZOFFSETFROM:-0500
TZOFFSETTO:-0600
TZNAME:CST
DTSTART:20241103T070000
END:STANDARD
BEGIN:DAYLIGHT
TZOFFSETFROM:-0600
TZOFFSETTO:-0500
TZNAME:CDT
DTSTART:20250309T080000
END:DAYLIGHT
BEGIN:STANDARD
TZOFFSETFROM:-0500
TZOFFSETTO:-0600
TZNAME:CST
DTSTART:20251102T070000
END:STANDARD
END:VTIMEZONE
BEGIN:VEVENT
DTSTART;TZID=America/Chicago:20240822T093000
DTEND;TZID=America/Chicago:20240822T150000
DTSTAMP:20260421T223355
CREATED:20240819T202709Z
LAST-MODIFIED:20240819T202709Z
UID:19849-1724319000-1724338800@pacificosur.ciesas.edu.mx
SUMMARY:Seminario Interdisciplinario sobre Estudios de la pobreza en Oaxaca
DESCRIPTION:Seminario Interdisciplinario sobre Estudios de la pobreza en Oaxaca\, 2024 \nOrganiza la Cátedra CONAHCYT- CIESAS PS proyecto 548 \n  \nJueves 22 de agosto \n9:45-15:00 hrs. \nAuditorio\n\n\n\nCIESAS Pacífico Sur \n\n\n\nTransmisión en vivo por YouTube \nhttps://www.youtube.com/@ciesaspacificosur
URL:https://pacificosur.ciesas.edu.mx/event/seminario-interdisciplinario-sobre-estudios-de-la-pobreza-en-oaxaca/
LOCATION:CIESAS Pacifico Sur\, Prol. Mirador s/n\, Oaxaca\, Oaxaca\, México
ATTACH;FMTTYPE=image/png:https://pacificosur.ciesas.edu.mx/wp-content/uploads/2024/08/Banner-seminario-pobreza-1.png
END:VEVENT
END:VCALENDAR