BEGIN:VCALENDAR
VERSION:2.0
PRODID:-//Pacifico Sur - ECPv6.15.20//NONSGML v1.0//EN
CALSCALE:GREGORIAN
METHOD:PUBLISH
X-ORIGINAL-URL:https://pacificosur.ciesas.edu.mx
X-WR-CALDESC:Eventos para Pacifico Sur
REFRESH-INTERVAL;VALUE=DURATION:PT1H
X-Robots-Tag:noindex
X-PUBLISHED-TTL:PT1H
BEGIN:VTIMEZONE
TZID:America/Chicago
BEGIN:DAYLIGHT
TZOFFSETFROM:-0600
TZOFFSETTO:-0500
TZNAME:CDT
DTSTART:20230312T080000
END:DAYLIGHT
BEGIN:STANDARD
TZOFFSETFROM:-0500
TZOFFSETTO:-0600
TZNAME:CST
DTSTART:20231105T070000
END:STANDARD
BEGIN:DAYLIGHT
TZOFFSETFROM:-0600
TZOFFSETTO:-0500
TZNAME:CDT
DTSTART:20240310T080000
END:DAYLIGHT
BEGIN:STANDARD
TZOFFSETFROM:-0500
TZOFFSETTO:-0600
TZNAME:CST
DTSTART:20241103T070000
END:STANDARD
BEGIN:DAYLIGHT
TZOFFSETFROM:-0600
TZOFFSETTO:-0500
TZNAME:CDT
DTSTART:20250309T080000
END:DAYLIGHT
BEGIN:STANDARD
TZOFFSETFROM:-0500
TZOFFSETTO:-0600
TZNAME:CST
DTSTART:20251102T070000
END:STANDARD
END:VTIMEZONE
BEGIN:VEVENT
DTSTART;TZID=America/Chicago:20240814T100000
DTEND;TZID=America/Chicago:20240814T130000
DTSTAMP:20260421T222456
CREATED:20240704T165642Z
LAST-MODIFIED:20240704T165642Z
UID:19819-1723629600-1723640400@pacificosur.ciesas.edu.mx
SUMMARY:Seminario Territorios indígenas\, autonomía y cuidado de la vida\, sesión 3
DESCRIPTION:Seminario Territorios indígenas\, autonomía y cuidado de la vida. \n  \nSesión 3. Autonomías y defensa del territorio \n  \n14 de agosto\, 10:00 hrs. \nAuditorio \nCIESAS Pacífico Sur\n\n\n\n\n\n\nTransmisión en vivo por YouTube \nhttps://www.youtube.com/@ciesaspacificosur
URL:https://pacificosur.ciesas.edu.mx/event/seminario-territorios-indigenas-autonomia-y-cuidado-de-la-vida-sesion-3/
LOCATION:CIESAS Pacifico Sur\, Prol. Mirador s/n\, Oaxaca\, Oaxaca\, México
END:VEVENT
END:VCALENDAR